BEGIN:VCALENDAR
VERSION:2.0
PRODID:SchoolNow
CALSCALE:GREGORIAN
BEGIN:VEVENT
UID:e747fe3c-1cf9-11f1-b9f4-0afff976ee3b
DTSTAMP:20260424T115508Z
SUMMARY:Girls Golf @ Chelan
URL;VALUE=URI:https://www.wenatcheeschools.org/whs/athletics/calendar/89088
 47/girls-golf-chelan
DTSTART:20260331T180000Z
DTEND:20260331T220000Z
END:VEVENT
END:VCALENDAR
