BEGIN:VCALENDAR
VERSION:2.0
PRODID:SchoolNow
CALSCALE:GREGORIAN
BEGIN:VEVENT
UID:e7482010-1cf9-11f1-85b2-0afff976ee3b
DTSTAMP:20260424T115508Z
SUMMARY:Boys & Girls Golf @ Eastmont
URL;VALUE=URI:https://www.wenatcheeschools.org/whs/athletics/calendar/89088
 48/boys-girls-golf-eastmont
DTSTART:20260312T190000Z
DTEND:20260313T020000Z
END:VEVENT
END:VCALENDAR
