BEGIN:VCALENDAR
VERSION:2.0
PRODID:SchoolNow
CALSCALE:GREGORIAN
BEGIN:VEVENT
UID:e74821a0-1cf9-11f1-a1e2-0afff976ee3b
DTSTAMP:20260424T115508Z
SUMMARY:JV/V Baseball VS Cheney
URL;VALUE=URI:https://www.wenatcheeschools.org/whs/athletics/calendar/89088
 49/jv-v-baseball-vs-cheney
DTSTART:20260314T190000Z
DTEND:20260314T233000Z
END:VEVENT
END:VCALENDAR
