BEGIN:VCALENDAR
VERSION:2.0
PRODID:SchoolNow
CALSCALE:GREGORIAN
BEGIN:VEVENT
UID:e74822b8-1cf9-11f1-bdaf-0afff976ee3b
DTSTAMP:20260424T115508Z
SUMMARY:Girls Golf @ AC Davis
URL;VALUE=URI:https://www.wenatcheeschools.org/whs/athletics/calendar/89088
 50/girls-golf-ac-davis
DTSTART:20260325T170000Z
DTEND:20260325T210000Z
END:VEVENT
END:VCALENDAR
