BEGIN:VCALENDAR
VERSION:2.0
PRODID:SchoolNow
CALSCALE:GREGORIAN
BEGIN:VEVENT
UID:e74823bc-1cf9-11f1-9031-0afff976ee3b
DTSTAMP:20260424T115508Z
SUMMARY:Boys Golf @ Moses Lake
URL;VALUE=URI:https://www.wenatcheeschools.org/whs/athletics/calendar/89088
 51/boys-golf-moses-lake
DTSTART:20260316T210000Z
DTEND:20260317T020000Z
END:VEVENT
END:VCALENDAR
