BEGIN:VCALENDAR
VERSION:2.0
PRODID:SchoolNow
CALSCALE:GREGORIAN
BEGIN:VEVENT
UID:e74824ac-1cf9-11f1-b3f0-0afff976ee3b
DTSTAMP:20260424T115508Z
SUMMARY:C Boys Soccer VS Othello
URL;VALUE=URI:https://www.wenatcheeschools.org/whs/athletics/calendar/89088
 52/c-boys-soccer-vs-othello
DTSTART:20260326T233000Z
DTEND:20260327T010000Z
END:VEVENT
END:VCALENDAR
