BEGIN:VCALENDAR
VERSION:2.0
PRODID:SchoolNow
CALSCALE:GREGORIAN
BEGIN:VEVENT
UID:e74825ec-1cf9-11f1-b5d2-0afff976ee3b
DTSTAMP:20260424T115508Z
SUMMARY:Tennis @ Sunnyside
URL;VALUE=URI:https://www.wenatcheeschools.org/whs/athletics/calendar/89088
 53/tennis-sunnyside
DTSTART:20260319T220000Z
DTEND:20260320T010000Z
END:VEVENT
END:VCALENDAR
