BEGIN:VCALENDAR
VERSION:2.0
PRODID:SchoolNow
CALSCALE:GREGORIAN
BEGIN:VEVENT
UID:e74826dc-1cf9-11f1-9f3a-0afff976ee3b
DTSTAMP:20260424T115508Z
SUMMARY:V Baseball VS Eastmont
URL;VALUE=URI:https://www.wenatcheeschools.org/whs/athletics/calendar/89088
 54/v-baseball-vs-eastmont
DTSTART:20260324T230000Z
DTEND:20260325T010000Z
END:VEVENT
END:VCALENDAR
