BEGIN:VCALENDAR
VERSION:2.0
PRODID:SchoolNow
CALSCALE:GREGORIAN
BEGIN:VEVENT
UID:e74827e0-1cf9-11f1-9d58-0afff976ee3b
DTSTAMP:20260424T115508Z
SUMMARY:JV Baseball VS Eastmont
URL;VALUE=URI:https://www.wenatcheeschools.org/whs/athletics/calendar/89088
 55/jv-baseball-vs-eastmont
DTSTART:20260328T180000Z
DTEND:20260328T220000Z
END:VEVENT
END:VCALENDAR
