BEGIN:VCALENDAR
VERSION:2.0
PRODID:SchoolNow
CALSCALE:GREGORIAN
BEGIN:VEVENT
UID:e7482998-1cf9-11f1-a59f-0afff976ee3b
DTSTAMP:20260424T115508Z
SUMMARY:C/JV/V Boys Soccer VS Tahoma
URL;VALUE=URI:https://www.wenatcheeschools.org/whs/athletics/calendar/89088
 56/c-jv-v-boys-soccer-vs-tahoma
DTSTART:20260314T200000Z
DTEND:20260315T000000Z
END:VEVENT
END:VCALENDAR
