BEGIN:VCALENDAR
VERSION:2.0
PRODID:SchoolNow
CALSCALE:GREGORIAN
BEGIN:VEVENT
UID:e7482a88-1cf9-11f1-8d79-0afff976ee3b
DTSTAMP:20260424T055028Z
SUMMARY:C/JV Boys Soccer VS Wahluke
URL;VALUE=URI:https://www.wenatcheeschools.org/whs/athletics/calendar/89088
 57/c-jv-boys-soccer-vs-wahluke
DTSTART:20260401T230000Z
DTEND:20260402T030000Z
END:VEVENT
END:VCALENDAR
