BEGIN:VCALENDAR
VERSION:2.0
PRODID:SchoolNow
CALSCALE:GREGORIAN
BEGIN:VEVENT
UID:e7482b6e-1cf9-11f1-9b14-0afff976ee3b
DTSTAMP:20260424T115508Z
SUMMARY:JV Baseball
URL;VALUE=URI:https://www.wenatcheeschools.org/whs/athletics/calendar/89088
 58/jv-baseball
DTSTART:20260325T230000Z
DTEND:20260326T003000Z
END:VEVENT
END:VCALENDAR
