BEGIN:VCALENDAR
VERSION:2.0
PRODID:SchoolNow
CALSCALE:GREGORIAN
BEGIN:VEVENT
UID:e7482c54-1cf9-11f1-aa4f-0afff976ee3b
DTSTAMP:20260424T055028Z
SUMMARY:Fastpitch Softball @ Sunnyside
URL;VALUE=URI:https://www.wenatcheeschools.org/whs/athletics/calendar/89088
 59/fastpitch-softball-sunnyside
DTSTART:20260403T220000Z
DTEND:20260403T233000Z
END:VEVENT
END:VCALENDAR
