BEGIN:VCALENDAR
VERSION:2.0
PRODID:SchoolNow
CALSCALE:GREGORIAN
BEGIN:VEVENT
UID:e7482d30-1cf9-11f1-944e-0afff976ee3b
DTSTAMP:20260424T115508Z
SUMMARY:C/JV Baseball @ Sunnyside
URL;VALUE=URI:https://www.wenatcheeschools.org/whs/athletics/calendar/89088
 60/c-jv-baseball-sunnyside
DTSTART:20260401T220000Z
DTEND:20260402T020000Z
END:VEVENT
END:VCALENDAR
