BEGIN:VCALENDAR
VERSION:2.0
PRODID:SchoolNow
CALSCALE:GREGORIAN
BEGIN:VEVENT
UID:e7482e2a-1cf9-11f1-aadb-0afff976ee3b
DTSTAMP:20260424T115508Z
SUMMARY:Track & Field Meet
URL;VALUE=URI:https://www.wenatcheeschools.org/whs/athletics/calendar/89088
 61/track-field-meet
DTSTART:20260321T180000Z
DTEND:20260321T220000Z
END:VEVENT
END:VCALENDAR
