BEGIN:VCALENDAR
VERSION:2.0
PRODID:SchoolNow
CALSCALE:GREGORIAN
BEGIN:VEVENT
UID:e7482f2e-1cf9-11f1-b7f0-0afff976ee3b
DTSTAMP:20260424T115508Z
SUMMARY:Boys Golf @ East Valley
URL;VALUE=URI:https://www.wenatcheeschools.org/whs/athletics/calendar/89088
 62/boys-golf-east-valley
DTSTART:20260330T170000Z
DTEND:20260330T210000Z
END:VEVENT
END:VCALENDAR
