BEGIN:VCALENDAR
VERSION:2.0
PRODID:SchoolNow
CALSCALE:GREGORIAN
BEGIN:VEVENT
UID:e7483082-1cf9-11f1-b808-0afff976ee3b
DTSTAMP:20260424T115508Z
SUMMARY:C Boys Soccer @ Royal HS
URL;VALUE=URI:https://www.wenatcheeschools.org/whs/athletics/calendar/89088
 63/c-boys-soccer-royal-hs
DTSTART:20260331T230000Z
DTEND:20260401T000000Z
END:VEVENT
END:VCALENDAR
