BEGIN:VCALENDAR
VERSION:2.0
PRODID:SchoolNow
CALSCALE:GREGORIAN
BEGIN:VEVENT
UID:e74831b8-1cf9-11f1-bfec-0afff976ee3b
DTSTAMP:20260424T115508Z
SUMMARY:Fastpitch Softball VS Eastmont
URL;VALUE=URI:https://www.wenatcheeschools.org/whs/athletics/calendar/89088
 64/fastpitch-softball-vs-eastmont
DTSTART:20260326T233000Z
DTEND:20260327T030000Z
END:VEVENT
END:VCALENDAR
