BEGIN:VCALENDAR
VERSION:2.0
PRODID:SchoolNow
CALSCALE:GREGORIAN
BEGIN:VEVENT
UID:e74832a8-1cf9-11f1-a87d-0afff976ee3b
DTSTAMP:20260424T115508Z
SUMMARY:V Baseball @ Sunnyside
URL;VALUE=URI:https://www.wenatcheeschools.org/whs/athletics/calendar/89088
 65/v-baseball-sunnyside
DTSTART:20260331T220000Z
DTEND:20260331T233000Z
END:VEVENT
END:VCALENDAR
