BEGIN:VCALENDAR
VERSION:2.0
PRODID:SchoolNow
CALSCALE:GREGORIAN
BEGIN:VEVENT
UID:e74833b6-1cf9-11f1-b500-0afff976ee3b
DTSTAMP:20260424T115508Z
SUMMARY:C/JV/V Boys Soccer @ Lewis & Clark HS
URL;VALUE=URI:https://www.wenatcheeschools.org/whs/athletics/calendar/89088
 66/c-jv-v-boys-soccer-lewis-clark-hs
DTSTART:20260330T230000Z
DTEND:20260331T010000Z
END:VEVENT
END:VCALENDAR
