BEGIN:VCALENDAR
VERSION:2.0
PRODID:SchoolNow
CALSCALE:GREGORIAN
BEGIN:VEVENT
UID:e748349c-1cf9-11f1-b682-0afff976ee3b
DTSTAMP:20260424T115508Z
SUMMARY:JV/V Boys Soccer VS West Valley
URL;VALUE=URI:https://www.wenatcheeschools.org/whs/athletics/calendar/89088
 67/jv-v-boys-soccer-vs-west-valley
DTSTART:20260325T000000Z
DTEND:20260325T040000Z
END:VEVENT
END:VCALENDAR
