BEGIN:VCALENDAR
VERSION:2.0
PRODID:SchoolNow
CALSCALE:GREGORIAN
BEGIN:VEVENT
UID:e74835aa-1cf9-11f1-b3b4-0afff976ee3b
DTSTAMP:20260424T115508Z
SUMMARY:C/JV/V Boys Soccer @ AC Davis
URL;VALUE=URI:https://www.wenatcheeschools.org/whs/athletics/calendar/89088
 68/c-jv-v-boys-soccer-ac-davis
DTSTART:20260327T230000Z
DTEND:20260328T030000Z
END:VEVENT
END:VCALENDAR
