BEGIN:VCALENDAR
VERSION:2.0
PRODID:SchoolNow
CALSCALE:GREGORIAN
BEGIN:VEVENT
UID:e7483762-1cf9-11f1-bb97-0afff976ee3b
DTSTAMP:20260424T115508Z
SUMMARY:C Baseball @ Cashmere
URL;VALUE=URI:https://www.wenatcheeschools.org/whs/athletics/calendar/89088
 70/c-baseball-cashmere
DTSTART:20260318T230000Z
DTEND:20260319T010000Z
END:VEVENT
END:VCALENDAR
