BEGIN:VCALENDAR
VERSION:2.0
PRODID:SchoolNow
CALSCALE:GREGORIAN
BEGIN:VEVENT
UID:e748383e-1cf9-11f1-b151-0afff976ee3b
DTSTAMP:20260424T055028Z
SUMMARY:Boys Golf @ Sunnyside
URL;VALUE=URI:https://www.wenatcheeschools.org/whs/athletics/calendar/89088
 71/boys-golf-sunnyside
DTSTART:20260401T180000Z
DTEND:20260401T220000Z
END:VEVENT
END:VCALENDAR
