BEGIN:VCALENDAR
VERSION:2.0
PRODID:SchoolNow
CALSCALE:GREGORIAN
BEGIN:VEVENT
UID:e748399c-1cf9-11f1-bd2b-0afff976ee3b
DTSTAMP:20260424T115508Z
SUMMARY:Girls Golf @ Sunnyside
URL;VALUE=URI:https://www.wenatcheeschools.org/whs/athletics/calendar/89088
 72/girls-golf-sunnyside
DTSTART:20260317T180000Z
DTEND:20260318T000000Z
END:VEVENT
END:VCALENDAR
