BEGIN:VCALENDAR
VERSION:2.0
PRODID:SchoolNow
CALSCALE:GREGORIAN
BEGIN:VEVENT
UID:e7483b5e-1cf9-11f1-becd-0afff976ee3b
DTSTAMP:20260424T055028Z
SUMMARY:C/JV/V Baseball @ Sunnyside
URL;VALUE=URI:https://www.wenatcheeschools.org/whs/athletics/calendar/89088
 74/c-jv-v-baseball-sunnyside
DTSTART:20260404T180000Z
DTEND:20260404T213000Z
END:VEVENT
END:VCALENDAR
