BEGIN:VCALENDAR
VERSION:2.0
PRODID:SchoolNow
CALSCALE:GREGORIAN
BEGIN:VEVENT
UID:e7483c8a-1cf9-11f1-99aa-0afff976ee3b
DTSTAMP:20260424T115508Z
SUMMARY:Fastpitch Softball @ Ephrata
URL;VALUE=URI:https://www.wenatcheeschools.org/whs/athletics/calendar/89088
 75/fastpitch-softball-ephrata
DTSTART:20260317T230000Z
DTEND:20260318T010000Z
END:VEVENT
END:VCALENDAR
