BEGIN:VCALENDAR
VERSION:2.0
PRODID:SchoolNow
CALSCALE:GREGORIAN
BEGIN:VEVENT
UID:e7483dfc-1cf9-11f1-966e-0afff976ee3b
DTSTAMP:20260424T055027Z
SUMMARY:Tennis @ West Valley
URL;VALUE=URI:https://www.wenatcheeschools.org/whs/athletics/calendar/89088
 76/tennis-west-valley
DTSTART:20260402T220000Z
DTEND:20260403T010000Z
END:VEVENT
END:VCALENDAR
