BEGIN:VCALENDAR
VERSION:2.0
PRODID:SchoolNow
CALSCALE:GREGORIAN
BEGIN:VEVENT
UID:e7483f32-1cf9-11f1-abfc-0afff976ee3b
DTSTAMP:20260424T115508Z
SUMMARY:Tennis @ Eisenhower\, AC Davis
URL;VALUE=URI:https://www.wenatcheeschools.org/whs/athletics/calendar/89088
 77/tennis-eisenhower-ac-davis
DTSTART:20260328T170000Z
DTEND:20260328T190000Z
END:VEVENT
END:VCALENDAR
