BEGIN:VCALENDAR
VERSION:2.0
PRODID:SchoolNow
CALSCALE:GREGORIAN
BEGIN:VEVENT
UID:e7484086-1cf9-11f1-b873-0afff976ee3b
DTSTAMP:20260424T115508Z
SUMMARY:Fastpitch Softball VS East Valley
URL;VALUE=URI:https://www.wenatcheeschools.org/whs/athletics/calendar/89088
 78/fastpitch-softball-vs-east-valley
DTSTART:20260321T200000Z
DTEND:20260321T233000Z
END:VEVENT
END:VCALENDAR
