BEGIN:VCALENDAR
VERSION:2.0
PRODID:SchoolNow
CALSCALE:GREGORIAN
BEGIN:VEVENT
UID:e74841bc-1cf9-11f1-8651-0afff976ee3b
DTSTAMP:20260424T115508Z
SUMMARY:C Boys Soccer @ Entiat
URL;VALUE=URI:https://www.wenatcheeschools.org/whs/athletics/calendar/89088
 79/c-boys-soccer-entiat
DTSTART:20260320T003000Z
DTEND:20260320T013000Z
END:VEVENT
END:VCALENDAR
