BEGIN:VCALENDAR
VERSION:2.0
PRODID:SchoolNow
CALSCALE:GREGORIAN
BEGIN:VEVENT
UID:e748437e-1cf9-11f1-82fa-0afff976ee3b
DTSTAMP:20260424T115508Z
SUMMARY:Boys Golf @ Eisenhower
URL;VALUE=URI:https://www.wenatcheeschools.org/whs/athletics/calendar/89088
 81/boys-golf-eisenhower
DTSTART:20260324T170000Z
DTEND:20260324T210000Z
END:VEVENT
END:VCALENDAR
