BEGIN:VCALENDAR
VERSION:2.0
PRODID:SchoolNow
CALSCALE:GREGORIAN
BEGIN:VEVENT
UID:e748445a-1cf9-11f1-aef4-0afff976ee3b
DTSTAMP:20260424T055028Z
SUMMARY:V Baseball VS Sunnyside
URL;VALUE=URI:https://www.wenatcheeschools.org/whs/athletics/calendar/89088
 82/v-baseball-vs-sunnyside
DTSTART:20260403T230000Z
DTEND:20260404T030000Z
END:VEVENT
END:VCALENDAR
