BEGIN:VCALENDAR
VERSION:2.0
PRODID:SchoolNow
CALSCALE:GREGORIAN
BEGIN:VEVENT
UID:e785da40-1cf9-11f1-94a2-0afff976ee3b
DTSTAMP:20260424T115508Z
SUMMARY:C/JV/V Boys Soccer @ Moses Lake
URL;VALUE=URI:https://www.wenatcheeschools.org/whs/athletics/calendar/89088
 83/c-jv-v-boys-soccer-moses-lake
DTSTART:20260404T000000Z
DTEND:20260404T033000Z
END:VEVENT
END:VCALENDAR
