BEGIN:VCALENDAR
VERSION:2.0
PRODID:SchoolNow
CALSCALE:GREGORIAN
BEGIN:VEVENT
UID:e785de6e-1cf9-11f1-93f3-0afff976ee3b
DTSTAMP:20260424T115508Z
SUMMARY:JV/V Boys Soccer VS Mead
URL;VALUE=URI:https://www.wenatcheeschools.org/whs/athletics/calendar/89088
 84/jv-v-boys-soccer-vs-mead
DTSTART:20260321T180000Z
DTEND:20260321T223000Z
END:VEVENT
END:VCALENDAR
