BEGIN:VCALENDAR
VERSION:2.0
PRODID:SchoolNow
CALSCALE:GREGORIAN
BEGIN:VEVENT
UID:e785dfe0-1cf9-11f1-adab-0afff976ee3b
DTSTAMP:20260424T115508Z
SUMMARY:C/JV/V Boys Soccer @ Issaquah
URL;VALUE=URI:https://www.wenatcheeschools.org/whs/athletics/calendar/89088
 85/c-jv-v-boys-soccer-issaquah
DTSTART:20260317T230000Z
DTEND:20260318T143000Z
END:VEVENT
END:VCALENDAR
