BEGIN:VCALENDAR
VERSION:2.0
PRODID:SchoolNow
CALSCALE:GREGORIAN
BEGIN:VEVENT
UID:e785e198-1cf9-11f1-b0aa-0afff976ee3b
DTSTAMP:20260424T115508Z
SUMMARY:Track & Field @ Eisenhower
URL;VALUE=URI:https://www.wenatcheeschools.org/whs/athletics/calendar/89088
 86/track-field-eisenhower
DTSTART:20260314T180000Z
DTEND:20260314T220000Z
END:VEVENT
END:VCALENDAR
