BEGIN:VCALENDAR
VERSION:2.0
PRODID:SchoolNow
CALSCALE:GREGORIAN
BEGIN:VEVENT
UID:e785e2ce-1cf9-11f1-8d99-0afff976ee3b
DTSTAMP:20260424T115508Z
SUMMARY:V Baseball VS Chiawana
URL;VALUE=URI:https://www.wenatcheeschools.org/whs/athletics/calendar/89088
 87/v-baseball-vs-chiawana
DTSTART:20260320T230000Z
DTEND:20260321T003000Z
END:VEVENT
END:VCALENDAR
