BEGIN:VCALENDAR
VERSION:2.0
PRODID:SchoolNow
CALSCALE:GREGORIAN
BEGIN:VEVENT
UID:e785e422-1cf9-11f1-959a-0afff976ee3b
DTSTAMP:20260424T115508Z
SUMMARY:Tennis VS Moses Lake
URL;VALUE=URI:https://www.wenatcheeschools.org/whs/athletics/calendar/89088
 88/tennis-vs-moses-lake
DTSTART:20260326T220000Z
DTEND:20260327T010000Z
END:VEVENT
END:VCALENDAR
