BEGIN:VCALENDAR
VERSION:2.0
PRODID:SchoolNow
CALSCALE:GREGORIAN
BEGIN:VEVENT
UID:e785e526-1cf9-11f1-9f23-0afff976ee3b
DTSTAMP:20260424T115508Z
SUMMARY:Girls Golf @ East Valley
URL;VALUE=URI:https://www.wenatcheeschools.org/whs/athletics/calendar/89088
 89/girls-golf-east-valley
DTSTART:20260324T200000Z
DTEND:20260325T020000Z
END:VEVENT
END:VCALENDAR
