BEGIN:VCALENDAR
VERSION:2.0
PRODID:SchoolNow
CALSCALE:GREGORIAN
BEGIN:VEVENT
UID:e785e63e-1cf9-11f1-9bee-0afff976ee3b
DTSTAMP:20260424T115508Z
SUMMARY:Track & Field Meet @ Eastmont
URL;VALUE=URI:https://www.wenatcheeschools.org/whs/athletics/calendar/89088
 90/track-field-meet-eastmont
DTSTART:20260327T223000Z
DTEND:20260328T013000Z
END:VEVENT
END:VCALENDAR
