BEGIN:VCALENDAR
VERSION:2.0
PRODID:SchoolNow
CALSCALE:GREGORIAN
BEGIN:VEVENT
UID:e785e756-1cf9-11f1-a2f7-0afff976ee3b
DTSTAMP:20260424T115508Z
SUMMARY:Fastpitch Softball@ Eastmont
URL;VALUE=URI:https://www.wenatcheeschools.org/whs/athletics/calendar/89088
 91/fastpitch-softball-eastmont
DTSTART:20260325T000000Z
DTEND:20260325T013000Z
END:VEVENT
END:VCALENDAR
