BEGIN:VCALENDAR
VERSION:2.0
PRODID:SchoolNow
CALSCALE:GREGORIAN
BEGIN:VEVENT
UID:e785f98a-1cf9-11f1-a31d-0afff976ee3b
DTSTAMP:20260424T115508Z
SUMMARY:Track & Field
URL;VALUE=URI:https://www.wenatcheeschools.org/whs/athletics/calendar/89088
 92/track-field
DTSTART:20260325T223000Z
DTEND:20260326T020000Z
END:VEVENT
END:VCALENDAR
