BEGIN:VCALENDAR
VERSION:2.0
PRODID:SchoolNow
CALSCALE:GREGORIAN
BEGIN:VEVENT
UID:e785fb7e-1cf9-11f1-a9a0-0afff976ee3b
DTSTAMP:20260424T115508Z
SUMMARY:V Boys Soccer
URL;VALUE=URI:https://www.wenatcheeschools.org/whs/athletics/calendar/89088
 93/v-boys-soccer
DTSTART:20260313T010000Z
DTEND:20260313T030000Z
END:VEVENT
END:VCALENDAR
