BEGIN:VCALENDAR
VERSION:2.0
PRODID:SchoolNow
CALSCALE:GREGORIAN
BEGIN:VEVENT
UID:e785fcb4-1cf9-11f1-be12-0afff976ee3b
DTSTAMP:20260424T115508Z
SUMMARY:Fastpitch Softball VS Sunnyside
URL;VALUE=URI:https://www.wenatcheeschools.org/whs/athletics/calendar/89088
 94/fastpitch-softball-vs-sunnyside
DTSTART:20260331T220000Z
DTEND:20260401T013000Z
END:VEVENT
END:VCALENDAR
