BEGIN:VCALENDAR
VERSION:2.0
PRODID:SchoolNow
CALSCALE:GREGORIAN
BEGIN:VEVENT
UID:e785feb2-1cf9-11f1-bc9c-0afff976ee3b
DTSTAMP:20260424T115508Z
SUMMARY:C Baseball @ Ephrata
URL;VALUE=URI:https://www.wenatcheeschools.org/whs/athletics/calendar/89088
 95/c-baseball-ephrata
DTSTART:20260313T193000Z
DTEND:20260314T000000Z
END:VEVENT
END:VCALENDAR
