BEGIN:VCALENDAR
VERSION:2.0
PRODID:SchoolNow
CALSCALE:GREGORIAN
BEGIN:VEVENT
UID:e785ffb6-1cf9-11f1-b342-0afff976ee3b
DTSTAMP:20260424T115508Z
SUMMARY:C Boys Soccer VS Ephrata
URL;VALUE=URI:https://www.wenatcheeschools.org/whs/athletics/calendar/89088
 96/c-boys-soccer-vs-ephrata
DTSTART:20260316T230000Z
DTEND:20260317T010000Z
END:VEVENT
END:VCALENDAR
