BEGIN:VCALENDAR
VERSION:2.0
PRODID:SchoolNow
CALSCALE:GREGORIAN
BEGIN:VEVENT
UID:e786009c-1cf9-11f1-8b8e-0afff976ee3b
DTSTAMP:20260424T115508Z
SUMMARY:Girls Golf @ Eastmont
URL;VALUE=URI:https://www.wenatcheeschools.org/whs/athletics/calendar/89088
 97/girls-golf-eastmont
DTSTART:20260319T183000Z
DTEND:20260319T233000Z
END:VEVENT
END:VCALENDAR
