BEGIN:VCALENDAR
VERSION:2.0
PRODID:SchoolNow
CALSCALE:GREGORIAN
BEGIN:VEVENT
UID:e786018c-1cf9-11f1-beb7-0afff976ee3b
DTSTAMP:20260424T115508Z
SUMMARY:Fastpitch Softball @ Ellensburg
URL;VALUE=URI:https://www.wenatcheeschools.org/whs/athletics/calendar/89088
 98/fastpitch-softball-ellensburg
DTSTART:20260319T210000Z
DTEND:20260319T230000Z
END:VEVENT
END:VCALENDAR
