BEGIN:VCALENDAR
VERSION:2.0
PRODID:SchoolNow
CALSCALE:GREGORIAN
BEGIN:VEVENT
UID:e78602cc-1cf9-11f1-af09-0afff976ee3b
DTSTAMP:20260424T115508Z
SUMMARY:Boys Golf @ West Valley
URL;VALUE=URI:https://www.wenatcheeschools.org/whs/athletics/calendar/89088
 99/boys-golf-west-valley
DTSTART:20260318T170000Z
DTEND:20260318T220000Z
END:VEVENT
END:VCALENDAR
